BEGIN:VCALENDAR
VERSION:2.0
PRODID:-//Tonka Insider - ECPv6.14.0//NONSGML v1.0//EN
CALSCALE:GREGORIAN
METHOD:PUBLISH
X-WR-CALNAME:Tonka Insider
X-ORIGINAL-URL:https://tonkainsider.com
X-WR-CALDESC:Events for Tonka Insider
REFRESH-INTERVAL;VALUE=DURATION:PT1H
X-Robots-Tag:noindex
X-PUBLISHED-TTL:PT1H
BEGIN:VTIMEZONE
TZID:America/Chicago
BEGIN:DAYLIGHT
TZOFFSETFROM:-0600
TZOFFSETTO:-0500
TZNAME:CDT
DTSTART:20250309T080000
END:DAYLIGHT
BEGIN:STANDARD
TZOFFSETFROM:-0500
TZOFFSETTO:-0600
TZNAME:CST
DTSTART:20251102T070000
END:STANDARD
BEGIN:DAYLIGHT
TZOFFSETFROM:-0600
TZOFFSETTO:-0500
TZNAME:CDT
DTSTART:20260308T080000
END:DAYLIGHT
BEGIN:STANDARD
TZOFFSETFROM:-0500
TZOFFSETTO:-0600
TZNAME:CST
DTSTART:20261101T070000
END:STANDARD
END:VTIMEZONE
BEGIN:VTIMEZONE
TZID:UTC
BEGIN:STANDARD
TZOFFSETFROM:+0000
TZOFFSETTO:+0000
TZNAME:UTC
DTSTART:20250101T000000
END:STANDARD
END:VTIMEZONE
BEGIN:VEVENT
DTSTART;TZID=America/Chicago:20260417T190000
DTEND;TZID=America/Chicago:20260417T220000
DTSTAMP:20260422T053431
CREATED:20251106T164823Z
LAST-MODIFIED:20251106T164823Z
UID:10004809-1776452400-1776463200@tonkainsider.com
SUMMARY:Live Music at Fletch
DESCRIPTION:Live music in the Oar House every Friday night 7-10pm
URL:https://tonkainsider.com/event/live-music-at-fletch/2026-04-17/
LOCATION:Lord Fletcher’s Old Lake Lodge\, 3746 Sunset Dr\, Spring Park\, MN\, 55384
CATEGORIES:Live Music
ATTACH;FMTTYPE=image/jpeg:https://tonkainsider.com/wp-content/uploads/2025/01/LordFletchers2.jpg
END:VEVENT
BEGIN:VEVENT
DTSTART;TZID=America/Chicago:20260410T190000
DTEND;TZID=America/Chicago:20260410T220000
DTSTAMP:20260422T053431
CREATED:20251106T164823Z
LAST-MODIFIED:20251106T164823Z
UID:10004808-1775847600-1775858400@tonkainsider.com
SUMMARY:Live Music at Fletch
DESCRIPTION:Live music in the Oar House every Friday night 7-10pm
URL:https://tonkainsider.com/event/live-music-at-fletch/2026-04-10/
LOCATION:Lord Fletcher’s Old Lake Lodge\, 3746 Sunset Dr\, Spring Park\, MN\, 55384
CATEGORIES:Live Music
ATTACH;FMTTYPE=image/jpeg:https://tonkainsider.com/wp-content/uploads/2025/01/LordFletchers2.jpg
END:VEVENT
BEGIN:VEVENT
DTSTART;TZID=America/Chicago:20260403T190000
DTEND;TZID=America/Chicago:20260403T220000
DTSTAMP:20260422T053431
CREATED:20251106T164823Z
LAST-MODIFIED:20251106T164823Z
UID:10004807-1775242800-1775253600@tonkainsider.com
SUMMARY:Live Music at Fletch
DESCRIPTION:Live music in the Oar House every Friday night 7-10pm
URL:https://tonkainsider.com/event/live-music-at-fletch/2026-04-03/
LOCATION:Lord Fletcher’s Old Lake Lodge\, 3746 Sunset Dr\, Spring Park\, MN\, 55384
CATEGORIES:Live Music
ATTACH;FMTTYPE=image/jpeg:https://tonkainsider.com/wp-content/uploads/2025/01/LordFletchers2.jpg
END:VEVENT
BEGIN:VEVENT
DTSTART;TZID=America/Chicago:20260327T190000
DTEND;TZID=America/Chicago:20260327T220000
DTSTAMP:20260422T053431
CREATED:20251106T164823Z
LAST-MODIFIED:20251106T164823Z
UID:10004806-1774638000-1774648800@tonkainsider.com
SUMMARY:Live Music at Fletch
DESCRIPTION:Live music in the Oar House every Friday night 7-10pm
URL:https://tonkainsider.com/event/live-music-at-fletch/2026-03-27/
LOCATION:Lord Fletcher’s Old Lake Lodge\, 3746 Sunset Dr\, Spring Park\, MN\, 55384
CATEGORIES:Live Music
ATTACH;FMTTYPE=image/jpeg:https://tonkainsider.com/wp-content/uploads/2025/01/LordFletchers2.jpg
END:VEVENT
BEGIN:VEVENT
DTSTART;TZID=America/Chicago:20260320T190000
DTEND;TZID=America/Chicago:20260320T220000
DTSTAMP:20260422T053431
CREATED:20251106T164823Z
LAST-MODIFIED:20251106T164823Z
UID:10004805-1774033200-1774044000@tonkainsider.com
SUMMARY:Live Music at Fletch
DESCRIPTION:Live music in the Oar House every Friday night 7-10pm
URL:https://tonkainsider.com/event/live-music-at-fletch/2026-03-20/
LOCATION:Lord Fletcher’s Old Lake Lodge\, 3746 Sunset Dr\, Spring Park\, MN\, 55384
CATEGORIES:Live Music
ATTACH;FMTTYPE=image/jpeg:https://tonkainsider.com/wp-content/uploads/2025/01/LordFletchers2.jpg
END:VEVENT
BEGIN:VEVENT
DTSTART;TZID=America/Chicago:20260313T190000
DTEND;TZID=America/Chicago:20260313T220000
DTSTAMP:20260422T053431
CREATED:20251106T164823Z
LAST-MODIFIED:20251106T164823Z
UID:10004804-1773428400-1773439200@tonkainsider.com
SUMMARY:Live Music at Fletch
DESCRIPTION:Live music in the Oar House every Friday night 7-10pm
URL:https://tonkainsider.com/event/live-music-at-fletch/2026-03-13/
LOCATION:Lord Fletcher’s Old Lake Lodge\, 3746 Sunset Dr\, Spring Park\, MN\, 55384
CATEGORIES:Live Music
ATTACH;FMTTYPE=image/jpeg:https://tonkainsider.com/wp-content/uploads/2025/01/LordFletchers2.jpg
END:VEVENT
BEGIN:VEVENT
DTSTART;TZID=America/Chicago:20260306T190000
DTEND;TZID=America/Chicago:20260306T220000
DTSTAMP:20260422T053431
CREATED:20251106T164823Z
LAST-MODIFIED:20251106T164823Z
UID:10004803-1772823600-1772834400@tonkainsider.com
SUMMARY:Live Music at Fletch
DESCRIPTION:Live music in the Oar House every Friday night 7-10pm
URL:https://tonkainsider.com/event/live-music-at-fletch/2026-03-06/
LOCATION:Lord Fletcher’s Old Lake Lodge\, 3746 Sunset Dr\, Spring Park\, MN\, 55384
CATEGORIES:Live Music
ATTACH;FMTTYPE=image/jpeg:https://tonkainsider.com/wp-content/uploads/2025/01/LordFletchers2.jpg
END:VEVENT
BEGIN:VEVENT
DTSTART;TZID=America/Chicago:20260227T190000
DTEND;TZID=America/Chicago:20260227T220000
DTSTAMP:20260422T053431
CREATED:20251106T164823Z
LAST-MODIFIED:20251106T164823Z
UID:10004802-1772218800-1772229600@tonkainsider.com
SUMMARY:Live Music at Fletch
DESCRIPTION:Live music in the Oar House every Friday night 7-10pm
URL:https://tonkainsider.com/event/live-music-at-fletch/2026-02-27/
LOCATION:Lord Fletcher’s Old Lake Lodge\, 3746 Sunset Dr\, Spring Park\, MN\, 55384
CATEGORIES:Live Music
ATTACH;FMTTYPE=image/jpeg:https://tonkainsider.com/wp-content/uploads/2025/01/LordFletchers2.jpg
END:VEVENT
BEGIN:VEVENT
DTSTART;TZID=America/Chicago:20260220T190000
DTEND;TZID=America/Chicago:20260220T220000
DTSTAMP:20260422T053431
CREATED:20251106T164823Z
LAST-MODIFIED:20251106T164823Z
UID:10004801-1771614000-1771624800@tonkainsider.com
SUMMARY:Live Music at Fletch
DESCRIPTION:Live music in the Oar House every Friday night 7-10pm
URL:https://tonkainsider.com/event/live-music-at-fletch/2026-02-20/
LOCATION:Lord Fletcher’s Old Lake Lodge\, 3746 Sunset Dr\, Spring Park\, MN\, 55384
CATEGORIES:Live Music
ATTACH;FMTTYPE=image/jpeg:https://tonkainsider.com/wp-content/uploads/2025/01/LordFletchers2.jpg
END:VEVENT
BEGIN:VEVENT
DTSTART;TZID=America/Chicago:20260213T190000
DTEND;TZID=America/Chicago:20260213T220000
DTSTAMP:20260422T053431
CREATED:20251106T164823Z
LAST-MODIFIED:20251106T164823Z
UID:10004800-1771009200-1771020000@tonkainsider.com
SUMMARY:Live Music at Fletch
DESCRIPTION:Live music in the Oar House every Friday night 7-10pm
URL:https://tonkainsider.com/event/live-music-at-fletch/2026-02-13/
LOCATION:Lord Fletcher’s Old Lake Lodge\, 3746 Sunset Dr\, Spring Park\, MN\, 55384
CATEGORIES:Live Music
ATTACH;FMTTYPE=image/jpeg:https://tonkainsider.com/wp-content/uploads/2025/01/LordFletchers2.jpg
END:VEVENT
BEGIN:VEVENT
DTSTART;TZID=America/Chicago:20260206T190000
DTEND;TZID=America/Chicago:20260206T220000
DTSTAMP:20260422T053431
CREATED:20251106T164823Z
LAST-MODIFIED:20251106T164823Z
UID:10004799-1770404400-1770415200@tonkainsider.com
SUMMARY:Live Music at Fletch
DESCRIPTION:Live music in the Oar House every Friday night 7-10pm
URL:https://tonkainsider.com/event/live-music-at-fletch/2026-02-06/
LOCATION:Lord Fletcher’s Old Lake Lodge\, 3746 Sunset Dr\, Spring Park\, MN\, 55384
CATEGORIES:Live Music
ATTACH;FMTTYPE=image/jpeg:https://tonkainsider.com/wp-content/uploads/2025/01/LordFletchers2.jpg
END:VEVENT
BEGIN:VEVENT
DTSTART;TZID=America/Chicago:20260130T190000
DTEND;TZID=America/Chicago:20260130T220000
DTSTAMP:20260422T053431
CREATED:20251106T164823Z
LAST-MODIFIED:20251106T164823Z
UID:10004798-1769799600-1769810400@tonkainsider.com
SUMMARY:Live Music at Fletch
DESCRIPTION:Live music in the Oar House every Friday night 7-10pm
URL:https://tonkainsider.com/event/live-music-at-fletch/2026-01-30/
LOCATION:Lord Fletcher’s Old Lake Lodge\, 3746 Sunset Dr\, Spring Park\, MN\, 55384
CATEGORIES:Live Music
ATTACH;FMTTYPE=image/jpeg:https://tonkainsider.com/wp-content/uploads/2025/01/LordFletchers2.jpg
END:VEVENT
BEGIN:VEVENT
DTSTART;TZID=America/Chicago:20260123T190000
DTEND;TZID=America/Chicago:20260123T220000
DTSTAMP:20260422T053431
CREATED:20251106T164823Z
LAST-MODIFIED:20251106T164823Z
UID:10004797-1769194800-1769205600@tonkainsider.com
SUMMARY:Live Music at Fletch
DESCRIPTION:Live music in the Oar House every Friday night 7-10pm
URL:https://tonkainsider.com/event/live-music-at-fletch/2026-01-23/
LOCATION:Lord Fletcher’s Old Lake Lodge\, 3746 Sunset Dr\, Spring Park\, MN\, 55384
CATEGORIES:Live Music
ATTACH;FMTTYPE=image/jpeg:https://tonkainsider.com/wp-content/uploads/2025/01/LordFletchers2.jpg
END:VEVENT
BEGIN:VEVENT
DTSTART;TZID=America/Chicago:20260116T190000
DTEND;TZID=America/Chicago:20260116T220000
DTSTAMP:20260422T053431
CREATED:20251106T164823Z
LAST-MODIFIED:20251106T164823Z
UID:10004796-1768590000-1768600800@tonkainsider.com
SUMMARY:Live Music at Fletch
DESCRIPTION:Live music in the Oar House every Friday night 7-10pm
URL:https://tonkainsider.com/event/live-music-at-fletch/2026-01-16/
LOCATION:Lord Fletcher’s Old Lake Lodge\, 3746 Sunset Dr\, Spring Park\, MN\, 55384
CATEGORIES:Live Music
ATTACH;FMTTYPE=image/jpeg:https://tonkainsider.com/wp-content/uploads/2025/01/LordFletchers2.jpg
END:VEVENT
BEGIN:VEVENT
DTSTART;TZID=America/Chicago:20260109T190000
DTEND;TZID=America/Chicago:20260109T220000
DTSTAMP:20260422T053431
CREATED:20251106T164823Z
LAST-MODIFIED:20251106T164823Z
UID:10004795-1767985200-1767996000@tonkainsider.com
SUMMARY:Live Music at Fletch
DESCRIPTION:Live music in the Oar House every Friday night 7-10pm
URL:https://tonkainsider.com/event/live-music-at-fletch/2026-01-09/
LOCATION:Lord Fletcher’s Old Lake Lodge\, 3746 Sunset Dr\, Spring Park\, MN\, 55384
CATEGORIES:Live Music
ATTACH;FMTTYPE=image/jpeg:https://tonkainsider.com/wp-content/uploads/2025/01/LordFletchers2.jpg
END:VEVENT
BEGIN:VEVENT
DTSTART;TZID=America/Chicago:20260102T190000
DTEND;TZID=America/Chicago:20260102T220000
DTSTAMP:20260422T053431
CREATED:20251106T164823Z
LAST-MODIFIED:20251106T164823Z
UID:10004794-1767380400-1767391200@tonkainsider.com
SUMMARY:Live Music at Fletch
DESCRIPTION:Live music in the Oar House every Friday night 7-10pm
URL:https://tonkainsider.com/event/live-music-at-fletch/2026-01-02/
LOCATION:Lord Fletcher’s Old Lake Lodge\, 3746 Sunset Dr\, Spring Park\, MN\, 55384
CATEGORIES:Live Music
ATTACH;FMTTYPE=image/jpeg:https://tonkainsider.com/wp-content/uploads/2025/01/LordFletchers2.jpg
END:VEVENT
BEGIN:VEVENT
DTSTART;TZID=America/Chicago:20251226T190000
DTEND;TZID=America/Chicago:20251226T220000
DTSTAMP:20260422T053431
CREATED:20251106T164823Z
LAST-MODIFIED:20251106T164823Z
UID:10004793-1766775600-1766786400@tonkainsider.com
SUMMARY:Live Music at Fletch
DESCRIPTION:Live music in the Oar House every Friday night 7-10pm
URL:https://tonkainsider.com/event/live-music-at-fletch/2025-12-26/
LOCATION:Lord Fletcher’s Old Lake Lodge\, 3746 Sunset Dr\, Spring Park\, MN\, 55384
CATEGORIES:Live Music
ATTACH;FMTTYPE=image/jpeg:https://tonkainsider.com/wp-content/uploads/2025/01/LordFletchers2.jpg
END:VEVENT
BEGIN:VEVENT
DTSTART;TZID=America/Chicago:20251219T190000
DTEND;TZID=America/Chicago:20251219T220000
DTSTAMP:20260422T053431
CREATED:20251106T164823Z
LAST-MODIFIED:20251106T164823Z
UID:10004792-1766170800-1766181600@tonkainsider.com
SUMMARY:Live Music at Fletch
DESCRIPTION:Live music in the Oar House every Friday night 7-10pm
URL:https://tonkainsider.com/event/live-music-at-fletch/2025-12-19/
LOCATION:Lord Fletcher’s Old Lake Lodge\, 3746 Sunset Dr\, Spring Park\, MN\, 55384
CATEGORIES:Live Music
ATTACH;FMTTYPE=image/jpeg:https://tonkainsider.com/wp-content/uploads/2025/01/LordFletchers2.jpg
END:VEVENT
BEGIN:VEVENT
DTSTART;TZID=America/Chicago:20251212T190000
DTEND;TZID=America/Chicago:20251212T220000
DTSTAMP:20260422T053431
CREATED:20251106T164823Z
LAST-MODIFIED:20251106T164823Z
UID:10004791-1765566000-1765576800@tonkainsider.com
SUMMARY:Live Music at Fletch
DESCRIPTION:Live music in the Oar House every Friday night 7-10pm
URL:https://tonkainsider.com/event/live-music-at-fletch/2025-12-12/
LOCATION:Lord Fletcher’s Old Lake Lodge\, 3746 Sunset Dr\, Spring Park\, MN\, 55384
CATEGORIES:Live Music
ATTACH;FMTTYPE=image/jpeg:https://tonkainsider.com/wp-content/uploads/2025/01/LordFletchers2.jpg
END:VEVENT
BEGIN:VEVENT
DTSTART;TZID=America/Chicago:20251205T190000
DTEND;TZID=America/Chicago:20251205T220000
DTSTAMP:20260422T053431
CREATED:20251106T164823Z
LAST-MODIFIED:20251106T164823Z
UID:10004790-1764961200-1764972000@tonkainsider.com
SUMMARY:Live Music at Fletch
DESCRIPTION:Live music in the Oar House every Friday night 7-10pm
URL:https://tonkainsider.com/event/live-music-at-fletch/2025-12-05/
LOCATION:Lord Fletcher’s Old Lake Lodge\, 3746 Sunset Dr\, Spring Park\, MN\, 55384
CATEGORIES:Live Music
ATTACH;FMTTYPE=image/jpeg:https://tonkainsider.com/wp-content/uploads/2025/01/LordFletchers2.jpg
END:VEVENT
BEGIN:VEVENT
DTSTART;TZID=America/Chicago:20251128T190000
DTEND;TZID=America/Chicago:20251128T220000
DTSTAMP:20260422T053431
CREATED:20251106T164823Z
LAST-MODIFIED:20251106T164823Z
UID:10004789-1764356400-1764367200@tonkainsider.com
SUMMARY:Live Music at Fletch
DESCRIPTION:Live music in the Oar House every Friday night 7-10pm
URL:https://tonkainsider.com/event/live-music-at-fletch/2025-11-28/
LOCATION:Lord Fletcher’s Old Lake Lodge\, 3746 Sunset Dr\, Spring Park\, MN\, 55384
CATEGORIES:Live Music
ATTACH;FMTTYPE=image/jpeg:https://tonkainsider.com/wp-content/uploads/2025/01/LordFletchers2.jpg
END:VEVENT
BEGIN:VEVENT
DTSTART;TZID=America/Chicago:20251121T190000
DTEND;TZID=America/Chicago:20251121T220000
DTSTAMP:20260422T053431
CREATED:20251106T164823Z
LAST-MODIFIED:20251106T164823Z
UID:10004788-1763751600-1763762400@tonkainsider.com
SUMMARY:Live Music at Fletch
DESCRIPTION:Live music in the Oar House every Friday night 7-10pm
URL:https://tonkainsider.com/event/live-music-at-fletch/2025-11-21/
LOCATION:Lord Fletcher’s Old Lake Lodge\, 3746 Sunset Dr\, Spring Park\, MN\, 55384
CATEGORIES:Live Music
ATTACH;FMTTYPE=image/jpeg:https://tonkainsider.com/wp-content/uploads/2025/01/LordFletchers2.jpg
END:VEVENT
BEGIN:VEVENT
DTSTART;TZID=America/Chicago:20251114T190000
DTEND;TZID=America/Chicago:20251114T220000
DTSTAMP:20260422T053431
CREATED:20251106T164823Z
LAST-MODIFIED:20251106T164823Z
UID:10004787-1763146800-1763157600@tonkainsider.com
SUMMARY:Live Music at Fletch
DESCRIPTION:Live music in the Oar House every Friday night 7-10pm
URL:https://tonkainsider.com/event/live-music-at-fletch/2025-11-14/
LOCATION:Lord Fletcher’s Old Lake Lodge\, 3746 Sunset Dr\, Spring Park\, MN\, 55384
CATEGORIES:Live Music
ATTACH;FMTTYPE=image/jpeg:https://tonkainsider.com/wp-content/uploads/2025/01/LordFletchers2.jpg
END:VEVENT
BEGIN:VEVENT
DTSTART;TZID=America/Chicago:20251107T190000
DTEND;TZID=America/Chicago:20251107T220000
DTSTAMP:20260422T053431
CREATED:20251106T164823Z
LAST-MODIFIED:20251106T164823Z
UID:10004786-1762542000-1762552800@tonkainsider.com
SUMMARY:Live Music at Fletch
DESCRIPTION:Live music in the Oar House every Friday night 7-10pm
URL:https://tonkainsider.com/event/live-music-at-fletch/2025-11-07/
LOCATION:Lord Fletcher’s Old Lake Lodge\, 3746 Sunset Dr\, Spring Park\, MN\, 55384
CATEGORIES:Live Music
ATTACH;FMTTYPE=image/jpeg:https://tonkainsider.com/wp-content/uploads/2025/01/LordFletchers2.jpg
END:VEVENT
BEGIN:VEVENT
DTSTART;TZID=UTC:20250903T180000
DTEND;TZID=UTC:20250903T210000
DTSTAMP:20260422T053431
CREATED:20250601T193605Z
LAST-MODIFIED:20250902T175243Z
UID:10003149-1756922400-1756933200@tonkainsider.com
SUMMARY:Live Music at Lord Fletchers
DESCRIPTION:Enjoy live music at Lord Fletcher’s.  Please check the Fletcher’s website for any time changes or updates
URL:https://tonkainsider.com/event/live-music-at-lord-fletchers-67/2025-09-03/
LOCATION:Lord Fletcher’s Old Lake Lodge\, 3746 Sunset Dr\, Spring Park\, MN\, 55384
CATEGORIES:Live Music
ATTACH;FMTTYPE=image/jpeg:https://tonkainsider.com/wp-content/uploads/2023/06/Lord-Fletcher-wide.jpg
END:VEVENT
BEGIN:VEVENT
DTSTART;TZID=UTC:20250831T140000
DTEND;TZID=UTC:20250831T170000
DTSTAMP:20260422T053431
CREATED:20250601T181103Z
LAST-MODIFIED:20250601T181220Z
UID:10003109-1756648800-1756659600@tonkainsider.com
SUMMARY:Live Music at Lord Fletchers
DESCRIPTION:Live music every weekend during the summer.  Please check the Lord Fletchers website for any time changes or updates
URL:https://tonkainsider.com/event/live-music-at-lord-fletchers-66/2025-08-31/
LOCATION:Lord Fletcher’s Old Lake Lodge\, 3746 Sunset Dr\, Spring Park\, MN\, 55384
CATEGORIES:Live Music
ATTACH;FMTTYPE=image/jpeg:https://tonkainsider.com/wp-content/uploads/2023/06/Lord-Fletcher-wide.jpg
END:VEVENT
BEGIN:VEVENT
DTSTART;TZID=UTC:20250830T140000
DTEND;TZID=UTC:20250830T170000
DTSTAMP:20260422T053431
CREATED:20250601T181103Z
LAST-MODIFIED:20250601T181220Z
UID:10003108-1756562400-1756573200@tonkainsider.com
SUMMARY:Live Music at Lord Fletchers
DESCRIPTION:Live music every weekend during the summer.  Please check the Lord Fletchers website for any time changes or updates
URL:https://tonkainsider.com/event/live-music-at-lord-fletchers-66/2025-08-30/
LOCATION:Lord Fletcher’s Old Lake Lodge\, 3746 Sunset Dr\, Spring Park\, MN\, 55384
CATEGORIES:Live Music
ATTACH;FMTTYPE=image/jpeg:https://tonkainsider.com/wp-content/uploads/2023/06/Lord-Fletcher-wide.jpg
END:VEVENT
BEGIN:VEVENT
DTSTART;TZID=UTC:20250829T180000
DTEND;TZID=UTC:20250829T210000
DTSTAMP:20260422T053431
CREATED:20250601T193605Z
LAST-MODIFIED:20250902T175243Z
UID:10003148-1756490400-1756501200@tonkainsider.com
SUMMARY:Live Music at Lord Fletchers
DESCRIPTION:Enjoy live music at Lord Fletcher’s.  Please check the Fletcher’s website for any time changes or updates
URL:https://tonkainsider.com/event/live-music-at-lord-fletchers-67/2025-08-29/
LOCATION:Lord Fletcher’s Old Lake Lodge\, 3746 Sunset Dr\, Spring Park\, MN\, 55384
CATEGORIES:Live Music
ATTACH;FMTTYPE=image/jpeg:https://tonkainsider.com/wp-content/uploads/2023/06/Lord-Fletcher-wide.jpg
END:VEVENT
BEGIN:VEVENT
DTSTART;TZID=UTC:20250828T180000
DTEND;TZID=UTC:20250828T210000
DTSTAMP:20260422T053431
CREATED:20250601T193605Z
LAST-MODIFIED:20250902T175243Z
UID:10003147-1756404000-1756414800@tonkainsider.com
SUMMARY:Live Music at Lord Fletchers
DESCRIPTION:Enjoy live music at Lord Fletcher’s.  Please check the Fletcher’s website for any time changes or updates
URL:https://tonkainsider.com/event/live-music-at-lord-fletchers-67/2025-08-28/
LOCATION:Lord Fletcher’s Old Lake Lodge\, 3746 Sunset Dr\, Spring Park\, MN\, 55384
CATEGORIES:Live Music
ATTACH;FMTTYPE=image/jpeg:https://tonkainsider.com/wp-content/uploads/2023/06/Lord-Fletcher-wide.jpg
END:VEVENT
BEGIN:VEVENT
DTSTART;TZID=UTC:20250827T180000
DTEND;TZID=UTC:20250827T210000
DTSTAMP:20260422T053431
CREATED:20250601T193605Z
LAST-MODIFIED:20250902T175243Z
UID:10003146-1756317600-1756328400@tonkainsider.com
SUMMARY:Live Music at Lord Fletchers
DESCRIPTION:Enjoy live music at Lord Fletcher’s.  Please check the Fletcher’s website for any time changes or updates
URL:https://tonkainsider.com/event/live-music-at-lord-fletchers-67/2025-08-27/
LOCATION:Lord Fletcher’s Old Lake Lodge\, 3746 Sunset Dr\, Spring Park\, MN\, 55384
CATEGORIES:Live Music
ATTACH;FMTTYPE=image/jpeg:https://tonkainsider.com/wp-content/uploads/2023/06/Lord-Fletcher-wide.jpg
END:VEVENT
END:VCALENDAR